BEGIN:VCALENDAR
VERSION:2.0
PRODID:-//Sam Rodgers - ECPv6.15.20//NONSGML v1.0//EN
CALSCALE:GREGORIAN
METHOD:PUBLISH
X-ORIGINAL-URL:https://samrodgers.org
X-WR-CALDESC:Events for Sam Rodgers
REFRESH-INTERVAL;VALUE=DURATION:PT1H
X-Robots-Tag:noindex
X-PUBLISHED-TTL:PT1H
BEGIN:VTIMEZONE
TZID:UTC
BEGIN:STANDARD
TZOFFSETFROM:+0000
TZOFFSETTO:+0000
TZNAME:UTC
DTSTART:20250101T000000
END:STANDARD
END:VTIMEZONE
BEGIN:VEVENT
DTSTART;TZID=UTC:20261114T100000
DTEND;TZID=UTC:20261114T140000
DTSTAMP:20260421T132557
CREATED:20260204T223420Z
LAST-MODIFIED:20260204T223420Z
UID:5329-1794650400-1794664800@samrodgers.org
SUMMARY:Diabetes Awareness
DESCRIPTION:Details are coming soon!
URL:https://samrodgers.org/event/diabetes-awareness/
LOCATION:Propeller Building\, 2100 E. 9th St.\, Kansas City\, MO\, 64124\, United States
CATEGORIES:Community Event,Training/Class
END:VEVENT
END:VCALENDAR