BEGIN:VCALENDAR
VERSION:2.0
PRODID:-//Sam Rodgers - ECPv6.15.20//NONSGML v1.0//EN
CALSCALE:GREGORIAN
METHOD:PUBLISH
X-ORIGINAL-URL:https://samrodgers.org
X-WR-CALDESC:Events for Sam Rodgers
REFRESH-INTERVAL;VALUE=DURATION:PT1H
X-Robots-Tag:noindex
X-PUBLISHED-TTL:PT1H
BEGIN:VTIMEZONE
TZID:UTC
BEGIN:STANDARD
TZOFFSETFROM:+0000
TZOFFSETTO:+0000
TZNAME:UTC
DTSTART:20230101T000000
END:STANDARD
END:VTIMEZONE
BEGIN:VEVENT
DTSTART;VALUE=DATE:20250803
DTEND;VALUE=DATE:20250810
DTSTAMP:20260421T160042
CREATED:20250730T171147Z
LAST-MODIFIED:20250730T171147Z
UID:4778-1754179200-1754783999@samrodgers.org
SUMMARY:National Health Center Week
DESCRIPTION:National Health Center Week (NHCW) is a nationwide celebration recognizing the vital role health centers play in delivering accessible\, high-quality care to millions of people across the country. This year’s observance honors 60 years of progress under the theme “Powering Communities Through Care.” \nEach day highlights a specific area of impact—from honoring health center staff to recognizing patient stories and community partnerships. Health centers serve as trusted providers and advocates\, advancing health and well-being in both rural and urban settings. \nCommunity members\, partners\, and advocates are encouraged to join the celebration by helping raise awareness about the important work of health centers and the ongoing need to protect and expand their reach. \nLearn more: https://healthcenterweek.org \nHosted by: National Association of Community Health Centers (NACHC)
URL:https://samrodgers.org/event/national-health-center-week/
CATEGORIES:Community Event,Online Event
ATTACH;FMTTYPE=image/png:https://samrodgers.org/wp-content/uploads/2025/07/NHCW-logo_300x200.png
END:VEVENT
BEGIN:VEVENT
DTSTART;VALUE=DATE:20241203
DTEND;VALUE=DATE:20241204
DTSTAMP:20260421T160042
CREATED:20241213T204436Z
LAST-MODIFIED:20250226T161429Z
UID:2799-1733184000-1733270399@samrodgers.org
SUMMARY:GivingTuesday
DESCRIPTION:Join us for GivingTuesday\, a global day of generosity and community impact! This year\, your support helps Sam Rodgers continue to provide high-quality\, compassionate\, and affordable health care for all. \nHow to Participate: \n\nMake a Gift: Every donation\, big or small\, makes a difference. Give securely online at Sam Rodgers Giving Page.\nSpread the Word: Share why you support Sam Rodgers using #GivingTuesday and #SamRodgers.\nVolunteer Your Time: Explore opportunities to contribute to our mission through volunteer efforts.\n\nTogether\, we can bring health and hope to our community. Learn more about our impact and how you can get involved at samrodgers.org
URL:https://samrodgers.org/event/givingtuesday/
CATEGORIES:Online Event
ATTACH;FMTTYPE=image/png:https://samrodgers.org/wp-content/uploads/2024/12/GivingTuesday-300x300-1.png
END:VEVENT
END:VCALENDAR